BEGIN:VCALENDAR
VERSION:2.0
PRODID:-//Hotel zur Post & Hochwälder Radstation Kell//NONSGML kigkonsult.s
 e iCalcreator 2.30.10//
CALSCALE:GREGORIAN
METHOD:PUBLISH
UID:3d61ad1d-577b-435a-a781-a2f1f4ab8a19
X-WR-CALNAME:iCagenda
X-WR-CALDESC:Event Management Extension for Joomla!
X-WR-RELCALID:3E26604A-50F4-4449-8B3E-E4F4932D05B5
X-WR-TIMEZONE:Europe/Berlin
BEGIN:VTIMEZONE
TZID:Europe/Berlin
BEGIN:STANDARD
TZNAME:CET
DTSTART:20251026T030000
TZOFFSETFROM:+0200
TZOFFSETTO:+0100
RDATE:20261025T030000
END:STANDARD
BEGIN:DAYLIGHT
TZNAME:CEST
DTSTART:20250330T020000
TZOFFSETFROM:+0100
TZOFFSETTO:+0200
RDATE:20260329T020000
RDATE:20270328T020000
END:DAYLIGHT
END:VTIMEZONE
BEGIN:VEVENT
UID:30f16905-3d5e-4125-822d-795817e9b964
DTSTAMP:20260425T134311Z
CATEGORIES:Winterzeit
CLASS:PUBLIC
DESCRIPTION;ALTREP="CID:<FFFF__=0ABBE548DFE235B58f9e8a93d@coffeebean.com>":
 Unser entspanntes Buffet in der adventlichen Postküche startet um 19 Uhr m
 it einem Vorspeisenbuffet und endet um 21 Uhr mit dem Dessertbuffet. Dazwi
 schen gibt es jede Menge Beliebtes &amp\; Neues aus der Liveküche\, vom Gr
 ill\, aus dem Wok\, natürlich frisch &amp\; weihnachtlich. Pro Person 29\,
 50 € Nähere Infos zum Essen folgen\, es ist für Jede(n) etwas dabei! Und: 
 wir verlängern die Öffnungszeiten an den 3 Freitagen und schließen erst um
  Mitternacht. Also jede Menge Zeit\, um mit Freunden\, Kollegen oder Famil
 ie einen gemütlichen Abend zu verbringen. Wir freuen uns auf Euch!\n 
DTSTART:20251219T180000Z
DTEND:20251219T200000Z
GEO:00;0
LOCATION:
ORGANIZER:
SEQUENCE:1
SUMMARY:Die letzte Schicht .... Adventbuffet am 19.12.
TRANSP:OPAQUE
URL:https://www.postkueche.de/essen-trinken/kulinarischer-kalender/209-letz
 te-schicht-3-25
END:VEVENT
END:VCALENDAR
